Package: IMPCdata Version: 1.40.0 Command: /home/biocbuild/bbs-3.19-bioc/R/bin/R CMD build --keep-empty-dirs --no-resave-data IMPCdata StartedAt: 2024-10-16 19:03:06 -0400 (Wed, 16 Oct 2024) EndedAt: 2024-10-16 19:04:31 -0400 (Wed, 16 Oct 2024) EllapsedTime: 84.2 seconds RetCode: 0 Status: OK PackageFile: IMPCdata_1.40.0.tar.gz PackageFileSize: 107.5 KiB