Package: IMPCdata Version: 1.40.0 Command: /Library/Frameworks/R.framework/Resources/bin/R CMD INSTALL IMPCdata StartedAt: 2024-10-16 15:33:45 -0400 (Wed, 16 Oct 2024) EndedAt: 2024-10-16 15:33:49 -0400 (Wed, 16 Oct 2024) EllapsedTime: 3.7 seconds RetCode: 0 Status: OK