Package: IMMAN Version: 1.24.0 Command: E:\biocbuild\bbs-3.19-bioc\R\bin\R.exe CMD INSTALL IMMAN StartedAt: 2024-10-16 16:12:53 -0400 (Wed, 16 Oct 2024) EndedAt: 2024-10-16 16:13:10 -0400 (Wed, 16 Oct 2024) EllapsedTime: 16.5 seconds RetCode: 0 Status: OK