Package: IMMAN Version: 1.24.0 Command: /home/biocbuild/bbs-3.19-bioc/R/bin/R CMD check --install=check:IMMAN.install-out.txt --library=/home/biocbuild/bbs-3.19-bioc/R/site-library --timings IMMAN_1.24.0.tar.gz StartedAt: 2024-10-17 01:33:47 -0400 (Thu, 17 Oct 2024) EndedAt: 2024-10-17 01:44:07 -0400 (Thu, 17 Oct 2024) EllapsedTime: 620.3 seconds RetCode: 0 Status: OK CheckDir: IMMAN.Rcheck Warnings: 0