Package: ILoReg Version: 1.14.0 Command: chmod a+r ILoReg -R && F:\biocbuild\bbs-3.19-bioc\R\bin\R.exe CMD build --keep-empty-dirs --no-resave-data ILoReg StartedAt: 2024-06-26 19:33:10 -0400 (Wed, 26 Jun 2024) EndedAt: 2024-06-26 19:35:49 -0400 (Wed, 26 Jun 2024) EllapsedTime: 159.0 seconds RetCode: 0 Status: OK PackageFile: ILoReg_1.14.0.tar.gz PackageFileSize: 1.742 MiB