Package: IFAA Version: 1.6.0 Command: rm -rf IFAA.buildbin-libdir && mkdir IFAA.buildbin-libdir && /Users/biocbuild/BBS/utils/build-universal.sh IFAA_1.6.0.tar.gz /Library/Frameworks/R.framework/Resources/bin/R IFAA.buildbin-libdir StartedAt: 2024-10-17 16:23:01 -0400 (Thu, 17 Oct 2024) EndedAt: 2024-10-17 16:24:08 -0400 (Thu, 17 Oct 2024) EllapsedTime: 66.8 seconds RetCode: 0 Status: OK PackageFile: IFAA_1.6.0.tgz PackageFileSize: 383.6 KiB