Package: HubPub Version: 1.12.0 Command: /Library/Frameworks/R.framework/Resources/bin/R CMD build --keep-empty-dirs --no-resave-data HubPub StartedAt: 2024-10-17 02:31:25 -0400 (Thu, 17 Oct 2024) EndedAt: 2024-10-17 02:32:15 -0400 (Thu, 17 Oct 2024) EllapsedTime: 49.6 seconds RetCode: 0 Status: OK PackageFile: HubPub_1.12.0.tar.gz PackageFileSize: 1.3 MiB