Package: HiTC Version: 1.48.0 Command: rm -rf HiTC.buildbin-libdir && mkdir HiTC.buildbin-libdir && /Users/biocbuild/BBS/utils/build-universal.sh HiTC_1.48.0.tar.gz /Library/Frameworks/R.framework/Resources/bin/R HiTC.buildbin-libdir StartedAt: 2024-10-17 16:21:56 -0400 (Thu, 17 Oct 2024) EndedAt: 2024-10-17 16:23:36 -0400 (Thu, 17 Oct 2024) EllapsedTime: 100.0 seconds RetCode: 0 Status: OK PackageFile: HiTC_1.48.0.tgz PackageFileSize: 3.684 MiB