Package: HiTC Version: 1.48.0 Command: /home/biocbuild/R/R-beta-2024-04-15_r86425/bin/R CMD check --install=check:HiTC.install-out.txt --library=/home/biocbuild/R/R-beta-2024-04-15_r86425/site-library --no-vignettes --timings HiTC_1.48.0.tar.gz StartedAt: 2024-05-09 08:23:11 -0000 (Thu, 09 May 2024) EndedAt: 2024-05-09 08:28:38 -0000 (Thu, 09 May 2024) EllapsedTime: 326.6 seconds RetCode: 0 Status: WARNINGS CheckDir: HiTC.Rcheck Warnings: 1