Package: HiTC Version: 1.48.0 Command: /Library/Frameworks/R.framework/Resources/bin/R CMD INSTALL HiTC StartedAt: 2024-06-09 15:47:25 -0400 (Sun, 09 Jun 2024) EndedAt: 2024-06-09 15:48:19 -0400 (Sun, 09 Jun 2024) EllapsedTime: 53.4 seconds RetCode: 0 Status: OK