Package: HelloRanges Version: 1.30.0 Command: /Library/Frameworks/R.framework/Resources/bin/R CMD build --keep-empty-dirs --no-resave-data HelloRanges StartedAt: 2024-10-16 19:56:01 -0400 (Wed, 16 Oct 2024) EndedAt: 2024-10-16 20:05:34 -0400 (Wed, 16 Oct 2024) EllapsedTime: 572.7 seconds RetCode: 0 Status: OK PackageFile: HelloRanges_1.30.0.tar.gz PackageFileSize: 951.6 KiB