Package: Harshlight Version: 1.76.0 Command: /home/biocbuild/bbs-3.19-bioc/R/bin/R CMD build --keep-empty-dirs --no-resave-data Harshlight StartedAt: 2024-10-16 18:54:35 -0400 (Wed, 16 Oct 2024) EndedAt: 2024-10-16 18:54:53 -0400 (Wed, 16 Oct 2024) EllapsedTime: 18.0 seconds RetCode: 0 Status: OK PackageFile: Harshlight_1.76.0.tar.gz PackageFileSize: 173.1 KiB