Package: HTqPCR Version: 1.57.0 Command: /home/biocbuild/R/R-devel_2024-01-16_r85812/bin/R CMD check --install=check:HTqPCR.install-out.txt --library=/home/biocbuild/R/R-devel_2024-01-16_r85812/site-library --no-vignettes --timings HTqPCR_1.57.0.tar.gz StartedAt: 2024-03-12 05:49:10 -0000 (Tue, 12 Mar 2024) EndedAt: 2024-03-12 05:50:05 -0000 (Tue, 12 Mar 2024) EllapsedTime: 55.1 seconds RetCode: 0 Status: OK CheckDir: HTqPCR.Rcheck Warnings: 0