Package: HGC Version: 1.12.0 Command: /Library/Frameworks/R.framework/Resources/bin/R CMD build --keep-empty-dirs --no-resave-data HGC StartedAt: 2024-10-16 19:57:48 -0400 (Wed, 16 Oct 2024) EndedAt: 2024-10-16 19:59:42 -0400 (Wed, 16 Oct 2024) EllapsedTime: 114.1 seconds RetCode: 0 Status: OK PackageFile: HGC_1.12.0.tar.gz PackageFileSize: 540.2 KiB