Package: GlobalAncova Version: 4.22.0 Command: /home/biocbuild/R/R-beta-2024-04-15_r86425/bin/R CMD check --install=check:GlobalAncova.install-out.txt --library=/home/biocbuild/R/R-beta-2024-04-15_r86425/site-library --no-vignettes --timings GlobalAncova_4.22.0.tar.gz StartedAt: 2024-05-09 07:57:09 -0000 (Thu, 09 May 2024) EndedAt: 2024-05-09 08:00:40 -0000 (Thu, 09 May 2024) EllapsedTime: 211.4 seconds RetCode: 0 Status: WARNINGS CheckDir: GlobalAncova.Rcheck Warnings: 1