Package: GloScope Version: 1.2.1 Command: /Library/Frameworks/R.framework/Resources/bin/R CMD check --install=check:GloScope.install-out.txt --library=/Library/Frameworks/R.framework/Resources/library --no-vignettes --timings GloScope_1.2.1.tar.gz StartedAt: 2024-10-17 23:28:14 -0400 (Thu, 17 Oct 2024) EndedAt: 2024-10-17 23:40:38 -0400 (Thu, 17 Oct 2024) EllapsedTime: 743.2 seconds RetCode: 0 Status: OK CheckDir: GloScope.Rcheck Warnings: 0