Package: GenomicSuperSignature Version: 1.12.0 Command: /home/biocbuild/R/R-beta-2024-04-15_r86425/bin/R CMD check --install=check:GenomicSuperSignature.install-out.txt --library=/home/biocbuild/R/R-beta-2024-04-15_r86425/site-library --no-vignettes --timings GenomicSuperSignature_1.12.0.tar.gz StartedAt: 2024-05-09 07:45:07 -0000 (Thu, 09 May 2024) EndedAt: 2024-05-09 07:57:22 -0000 (Thu, 09 May 2024) EllapsedTime: 735.2 seconds RetCode: 0 Status: WARNINGS CheckDir: GenomicSuperSignature.Rcheck Warnings: 2