Package: GenomicPlot Version: 1.2.4 Command: /home/biocbuild/bbs-3.19-bioc/R/bin/R CMD build --keep-empty-dirs --no-resave-data GenomicPlot StartedAt: 2024-10-16 18:40:12 -0400 (Wed, 16 Oct 2024) EndedAt: 2024-10-16 18:42:36 -0400 (Wed, 16 Oct 2024) EllapsedTime: 144.2 seconds RetCode: 0 Status: OK PackageFile: GenomicPlot_1.2.4.tar.gz PackageFileSize: 3.239 MiB