Package: GenomicInteractions Version: 1.38.0 Maintainer: Liz Ing-Simmons MaintainerEmail: liz.ingsimmons at gmail.com git_url: https://git.bioconductor.org/packages/GenomicInteractions git_branch: RELEASE_3_19 git_last_commit: 4002e48 git_last_commit_date: 2024-04-30 10:39:03 -0400 (Tue, 30 Apr 2024)