Package: GenomeInfoDb Version: 1.40.0 Command: /home/biocbuild/R/R-beta-2024-04-15_r86425/bin/R CMD build --keep-empty-dirs --no-resave-data GenomeInfoDb StartedAt: 2024-05-09 00:29:45 -0000 (Thu, 09 May 2024) EndedAt: 2024-05-09 00:30:23 -0000 (Thu, 09 May 2024) EllapsedTime: 38.1 seconds RetCode: 0 Status: OK PackageFile: GenomeInfoDb_1.40.0.tar.gz PackageFileSize: 3.433 MiB