Package: GeneStructureTools Version: 1.24.0 Command: chmod a+r GeneStructureTools -R && E:\biocbuild\bbs-3.19-bioc\R\bin\R.exe CMD build --keep-empty-dirs --no-resave-data GeneStructureTools StartedAt: 2024-10-16 19:21:54 -0400 (Wed, 16 Oct 2024) EndedAt: 2024-10-16 19:24:59 -0400 (Wed, 16 Oct 2024) EllapsedTime: 185.6 seconds RetCode: 0 Status: OK PackageFile: GeneStructureTools_1.24.0.tar.gz PackageFileSize: 2.175 MiB