Package: GeneNetworkBuilder Version: 1.46.0 Command: /home/biocbuild/R/R-beta-2024-04-15_r86425/bin/R CMD build --keep-empty-dirs --no-resave-data GeneNetworkBuilder StartedAt: 2024-05-09 00:28:02 -0000 (Thu, 09 May 2024) EndedAt: 2024-05-09 00:40:02 -0000 (Thu, 09 May 2024) EllapsedTime: 720.0 seconds RetCode: 0 Status: OK PackageFile: GeneNetworkBuilder_1.46.0.tar.gz PackageFileSize: 9.145 MiB