Package: GSgalgoR Version: 1.14.0 Command: /home/biocbuild/bbs-3.19-bioc/R/bin/R CMD INSTALL GSgalgoR StartedAt: 2024-10-16 16:27:06 -0400 (Wed, 16 Oct 2024) EndedAt: 2024-10-16 16:27:08 -0400 (Wed, 16 Oct 2024) EllapsedTime: 2.0 seconds RetCode: 0 Status: OK