Package: GSReg Version: 1.38.0 Command: /Library/Frameworks/R.framework/Resources/bin/R CMD build --keep-empty-dirs --no-resave-data GSReg StartedAt: 2024-10-16 19:50:31 -0400 (Wed, 16 Oct 2024) EndedAt: 2024-10-16 19:54:03 -0400 (Wed, 16 Oct 2024) EllapsedTime: 212.2 seconds RetCode: 0 Status: OK PackageFile: GSReg_1.38.0.tar.gz PackageFileSize: 466.2 KiB