Package: GSEAlm Version: 1.64.0 Command: rm -rf GSEAlm.buildbin-libdir && mkdir GSEAlm.buildbin-libdir && /Users/biocbuild/BBS/utils/build-universal.sh GSEAlm_1.64.0.tar.gz /Library/Frameworks/R.framework/Resources/bin/R GSEAlm.buildbin-libdir StartedAt: 2024-10-18 18:50:38 -0400 (Fri, 18 Oct 2024) EndedAt: 2024-10-18 18:50:45 -0400 (Fri, 18 Oct 2024) EllapsedTime: 6.9 seconds RetCode: 0 Status: OK PackageFile: GSEAlm_1.64.0.tgz PackageFileSize: 1.235 MiB