Package: GOpro Version: 1.30.0 Command: /Library/Frameworks/R.framework/Resources/bin/R CMD INSTALL GOpro StartedAt: 2024-10-16 16:14:54 -0400 (Wed, 16 Oct 2024) EndedAt: 2024-10-16 16:15:34 -0400 (Wed, 16 Oct 2024) EllapsedTime: 40.5 seconds RetCode: 0 Status: OK