Package: GOfuncR Version: 1.24.0 Command: /Library/Frameworks/R.framework/Resources/bin/R CMD INSTALL GOfuncR StartedAt: 2024-10-16 15:26:53 -0400 (Wed, 16 Oct 2024) EndedAt: 2024-10-16 15:30:39 -0400 (Wed, 16 Oct 2024) EllapsedTime: 225.7 seconds RetCode: 0 Status: OK