Package: GNET2 Version: 1.20.0 Command: rm -rf GNET2.buildbin-libdir && mkdir GNET2.buildbin-libdir && E:\biocbuild\bbs-3.19-bioc\R\bin\R.exe CMD INSTALL --build --library=GNET2.buildbin-libdir GNET2_1.20.0.tar.gz StartedAt: 2024-10-17 07:54:11 -0400 (Thu, 17 Oct 2024) EndedAt: 2024-10-17 07:54:52 -0400 (Thu, 17 Oct 2024) EllapsedTime: 41.0 seconds RetCode: 0 Status: OK PackageFile: GNET2_1.20.0.zip PackageFileSize: 1.064 MiB