Package: GNET2 Version: 1.20.0 Command: rm -rf GNET2.buildbin-libdir && mkdir GNET2.buildbin-libdir && /Users/biocbuild/BBS/utils/build-universal.sh GNET2_1.20.0.tar.gz /Library/Frameworks/R.framework/Resources/bin/R GNET2.buildbin-libdir StartedAt: 2024-06-11 11:28:28 -0400 (Tue, 11 Jun 2024) EndedAt: 2024-06-11 11:29:35 -0400 (Tue, 11 Jun 2024) EllapsedTime: 67.9 seconds RetCode: 0 Status: OK PackageFile: GNET2_1.20.0.tgz PackageFileSize: 909.7 KiB