Package: GLAD Version: 2.68.0 Command: /home/biocbuild/bbs-3.19-bioc/R/bin/R CMD check --install=check:GLAD.install-out.txt --library=/home/biocbuild/bbs-3.19-bioc/R/site-library --timings GLAD_2.68.0.tar.gz StartedAt: 2024-10-17 00:58:07 -0400 (Thu, 17 Oct 2024) EndedAt: 2024-10-17 00:58:39 -0400 (Thu, 17 Oct 2024) EllapsedTime: 32.1 seconds RetCode: 0 Status: WARNINGS CheckDir: GLAD.Rcheck Warnings: 2