Package: GEOsubmission Version: 1.56.0 Command: chmod a+r GEOsubmission -R && F:\biocbuild\bbs-3.19-bioc\R\bin\R.exe CMD build --keep-empty-dirs --no-resave-data GEOsubmission StartedAt: 2024-06-26 19:10:21 -0400 (Wed, 26 Jun 2024) EndedAt: 2024-06-26 19:10:37 -0400 (Wed, 26 Jun 2024) EllapsedTime: 16.0 seconds RetCode: 0 Status: OK PackageFile: GEOsubmission_1.56.0.tar.gz PackageFileSize: 78.79 KiB