Package: GAprediction Version: 1.30.0 Command: rm -rf GAprediction.buildbin-libdir && mkdir GAprediction.buildbin-libdir && /Users/biocbuild/BBS/utils/build-universal.sh GAprediction_1.30.0.tar.gz /Library/Frameworks/R.framework/Resources/bin/R GAprediction.buildbin-libdir StartedAt: 2024-06-10 00:19:00 -0400 (Mon, 10 Jun 2024) EndedAt: 2024-06-10 00:19:16 -0400 (Mon, 10 Jun 2024) EllapsedTime: 15.8 seconds RetCode: 0 Status: OK PackageFile: GAprediction_1.30.0.tgz PackageFileSize: 882.6 KiB