Package: FunChIP Version: 1.30.0 Command: rm -rf FunChIP.buildbin-libdir && mkdir FunChIP.buildbin-libdir && E:\biocbuild\bbs-3.19-bioc\R\bin\R.exe CMD INSTALL --build --library=FunChIP.buildbin-libdir FunChIP_1.30.0.tar.gz StartedAt: 2024-10-17 07:49:10 -0400 (Thu, 17 Oct 2024) EndedAt: 2024-10-17 07:50:00 -0400 (Thu, 17 Oct 2024) EllapsedTime: 50.4 seconds RetCode: 0 Status: OK PackageFile: FunChIP_1.30.0.zip PackageFileSize: 23.94 MiB