Package: FeatSeekR Version: 1.4.0 Command: /home/biocbuild/R/R-beta-2024-04-15_r86425/bin/R CMD build --keep-empty-dirs --no-resave-data FeatSeekR StartedAt: 2024-05-09 00:16:35 -0000 (Thu, 09 May 2024) EndedAt: 2024-05-09 00:18:36 -0000 (Thu, 09 May 2024) EllapsedTime: 120.2 seconds RetCode: 0 Status: OK PackageFile: FeatSeekR_1.4.0.tar.gz PackageFileSize: 505.7 KiB