Package: FGNet Version: 3.38.0 Command: rm -rf FGNet.buildbin-libdir && mkdir FGNet.buildbin-libdir && /Users/biocbuild/BBS/utils/build-universal.sh FGNet_3.38.0.tar.gz /Library/Frameworks/R.framework/Resources/bin/R FGNet.buildbin-libdir StartedAt: 2024-10-17 16:09:32 -0400 (Thu, 17 Oct 2024) EndedAt: 2024-10-17 16:09:54 -0400 (Thu, 17 Oct 2024) EllapsedTime: 21.5 seconds RetCode: 0 Status: OK PackageFile: FGNet_3.38.0.tgz PackageFileSize: 1.69 MiB