Package: FGNet Version: 3.38.0 Command: /Library/Frameworks/R.framework/Resources/bin/R CMD check --install=check:FGNet.install-out.txt --library=/Library/Frameworks/R.framework/Resources/library --no-vignettes --timings FGNet_3.38.0.tar.gz StartedAt: 2024-10-17 21:40:50 -0400 (Thu, 17 Oct 2024) EndedAt: 2024-10-17 21:42:00 -0400 (Thu, 17 Oct 2024) EllapsedTime: 70.2 seconds RetCode: 0 Status: WARNINGS CheckDir: FGNet.Rcheck Warnings: 1