Package: ExiMiR Version: 2.46.0 Command: /home/biocbuild/R/R-beta-2024-04-15_r86425/bin/R CMD build --keep-empty-dirs --no-resave-data ExiMiR StartedAt: 2024-05-09 00:13:32 -0000 (Thu, 09 May 2024) EndedAt: 2024-05-09 00:15:17 -0000 (Thu, 09 May 2024) EllapsedTime: 105.2 seconds RetCode: 0 Status: OK PackageFile: ExiMiR_2.46.0.tar.gz PackageFileSize: 1.495 MiB