Package: EventPointer Version: 3.12.0 Command: F:\biocbuild\bbs-3.19-bioc\R\bin\R.exe CMD check --no-multiarch --install=check:EventPointer.install-out.txt --library=F:\biocbuild\bbs-3.19-bioc\R\library --no-vignettes --timings EventPointer_3.12.0.tar.gz StartedAt: 2024-06-27 01:30:56 -0400 (Thu, 27 Jun 2024) EndedAt: 2024-06-27 01:37:11 -0400 (Thu, 27 Jun 2024) EllapsedTime: 374.8 seconds RetCode: 0 Status: OK CheckDir: EventPointer.Rcheck Warnings: 0