Package: EpiDISH Version: 2.20.1 Command: /Library/Frameworks/R.framework/Resources/bin/R CMD INSTALL EpiDISH StartedAt: 2024-10-16 15:46:15 -0400 (Wed, 16 Oct 2024) EndedAt: 2024-10-16 15:46:23 -0400 (Wed, 16 Oct 2024) EllapsedTime: 7.5 seconds RetCode: 0 Status: OK