Package: EnMCB Version: 1.16.0 Command: /home/biocbuild/R/R-beta-2024-04-15_r86425/bin/R CMD build --keep-empty-dirs --no-resave-data EnMCB StartedAt: 2024-05-09 00:04:27 -0000 (Thu, 09 May 2024) EndedAt: 2024-05-09 00:05:22 -0000 (Thu, 09 May 2024) EllapsedTime: 54.1 seconds RetCode: 0 Status: OK PackageFile: EnMCB_1.16.0.tar.gz PackageFileSize: 4.929 MiB