Package: EnMCB Version: 1.16.0 Command: /Library/Frameworks/R.framework/Resources/bin/R CMD build --keep-empty-dirs --no-resave-data EnMCB StartedAt: 2024-10-16 23:56:14 -0400 (Wed, 16 Oct 2024) EndedAt: 2024-10-16 23:57:13 -0400 (Wed, 16 Oct 2024) EllapsedTime: 59.2 seconds RetCode: 0 Status: OK PackageFile: EnMCB_1.16.0.tar.gz PackageFileSize: 4.929 MiB