Package: ERSSA Version: 1.22.0 Command: E:\biocbuild\bbs-3.19-bioc\R\bin\R.exe CMD INSTALL ERSSA StartedAt: 2024-10-16 16:21:27 -0400 (Wed, 16 Oct 2024) EndedAt: 2024-10-16 16:22:00 -0400 (Wed, 16 Oct 2024) EllapsedTime: 32.2 seconds RetCode: 0 Status: OK