Package: ENmix Version: 1.40.2 Command: /home/biocbuild/bbs-3.19-bioc/R/bin/R CMD check --install=check:ENmix.install-out.txt --library=/home/biocbuild/bbs-3.19-bioc/R/site-library --timings ENmix_1.40.2.tar.gz StartedAt: 2024-10-17 00:05:35 -0400 (Thu, 17 Oct 2024) EndedAt: 2024-10-17 00:11:11 -0400 (Thu, 17 Oct 2024) EllapsedTime: 335.6 seconds RetCode: 0 Status: OK CheckDir: ENmix.Rcheck Warnings: 0