Package: EBcoexpress Version: 1.48.0 Command: F:\biocbuild\bbs-3.19-bioc\R\bin\R.exe CMD check --no-multiarch --install=check:EBcoexpress.install-out.txt --library=F:\biocbuild\bbs-3.19-bioc\R\library --no-vignettes --timings EBcoexpress_1.48.0.tar.gz StartedAt: 2024-06-27 01:16:26 -0400 (Thu, 27 Jun 2024) EndedAt: 2024-06-27 01:17:13 -0400 (Thu, 27 Jun 2024) EllapsedTime: 46.2 seconds RetCode: 0 Status: WARNINGS CheckDir: EBcoexpress.Rcheck Warnings: 1