Package: EBarrays Version: 2.68.0 Command: /Library/Frameworks/R.framework/Resources/bin/R CMD check --install=check:EBarrays.install-out.txt --library=/Library/Frameworks/R.framework/Resources/library --no-vignettes --timings EBarrays_2.68.0.tar.gz StartedAt: 2024-06-10 14:30:28 -0400 (Mon, 10 Jun 2024) EndedAt: 2024-06-10 14:31:55 -0400 (Mon, 10 Jun 2024) EllapsedTime: 87.6 seconds RetCode: 0 Status: OK CheckDir: EBarrays.Rcheck Warnings: 0