Package: EBarrays Version: 2.68.0 Command: /Library/Frameworks/R.framework/Resources/bin/R CMD build --keep-empty-dirs --no-resave-data EBarrays StartedAt: 2024-10-16 23:48:41 -0400 (Wed, 16 Oct 2024) EndedAt: 2024-10-16 23:49:10 -0400 (Wed, 16 Oct 2024) EllapsedTime: 28.4 seconds RetCode: 0 Status: OK PackageFile: EBarrays_2.68.0.tar.gz PackageFileSize: 1.039 MiB