Package: EBSeqHMM Version: 1.38.0 Command: E:\biocbuild\bbs-3.19-bioc\R\bin\R.exe CMD INSTALL EBSeqHMM StartedAt: 2024-10-16 16:53:29 -0400 (Wed, 16 Oct 2024) EndedAt: 2024-10-16 16:53:31 -0400 (Wed, 16 Oct 2024) EllapsedTime: 2.1 seconds RetCode: 1 Status: ERROR