Package: EBSEA Version: 1.32.0 Command: chmod a+r EBSEA -R && E:\biocbuild\bbs-3.19-bioc\R\bin\R.exe CMD build --keep-empty-dirs --no-resave-data EBSEA StartedAt: 2024-10-16 18:49:25 -0400 (Wed, 16 Oct 2024) EndedAt: 2024-10-16 18:50:11 -0400 (Wed, 16 Oct 2024) EllapsedTime: 45.9 seconds RetCode: 0 Status: OK PackageFile: EBSEA_1.32.0.tar.gz PackageFileSize: 31.37 KiB