Package: DelayedTensor Version: 1.10.0 Command: rm -rf DelayedTensor.buildbin-libdir && mkdir DelayedTensor.buildbin-libdir && E:\biocbuild\bbs-3.19-bioc\R\bin\R.exe CMD INSTALL --build --library=DelayedTensor.buildbin-libdir DelayedTensor_1.10.0.tar.gz StartedAt: 2024-10-17 07:40:13 -0400 (Thu, 17 Oct 2024) EndedAt: 2024-10-17 07:41:31 -0400 (Thu, 17 Oct 2024) EllapsedTime: 78.3 seconds RetCode: 0 Status: OK PackageFile: DelayedTensor_1.10.0.zip PackageFileSize: 3.106 MiB