Package: DNAfusion Version: 1.6.0 Command: /Library/Frameworks/R.framework/Resources/bin/R CMD build --keep-empty-dirs --no-resave-data DNAfusion StartedAt: 2024-06-09 16:31:08 -0400 (Sun, 09 Jun 2024) EndedAt: 2024-06-09 16:34:19 -0400 (Sun, 09 Jun 2024) EllapsedTime: 191.1 seconds RetCode: 0 Status: OK PackageFile: DNAfusion_1.6.0.tar.gz PackageFileSize: 6.298 MiB